0.500000
0.000000
0.000000
-0.500000
2869685.250000
469953.750000
