0.500000
0.000000
0.000000
-0.500000
2872118.750000
475363.250000
