0.500000
0.000000
0.000000
-0.500000
2885245.750000
478493.750000
