0.500000
0.000000
0.000000
-0.500000
2890285.250000
483947.750000
