0.500000
0.000000
0.000000
-0.500000
2866610.750000
480444.750000
