0.500000
0.000000
0.000000
-0.500000
2861024.250000
488379.250000
