0.500000
0.000000
0.000000
-0.500000
2874202.750000
488692.250000
