0.500000
0.000000
0.000000
-0.500000
2876838.250000
488789.250000
