0.500000
0.000000
0.000000
-0.500000
2887390.250000
489146.750000
