0.500000
0.000000
0.000000
-0.500000
2887514.750000
486501.250000
