0.500000
0.000000
0.000000
-0.500000
2890029.250000
489333.250000
