0.500000
0.000000
0.000000
-0.500000
2884627.250000
491707.250000
