0.500000
0.000000
0.000000
-0.500000
2865731.750000
498692.250000
