0.500000
0.000000
0.000000
-0.500000
2871135.250000
496471.750000
