0.500000
0.000000
0.000000
-0.500000
2914197.750000
472103.750000
