0.500000
0.000000
0.000000
-0.500000
2896029.750000
473686.250000
