0.500000
0.000000
0.000000
-0.500000
2895805.250000
478985.250000
