0.500000
0.000000
0.000000
-0.500000
2903286.250000
479453.750000
