0.500000
0.000000
0.000000
-0.500000
2908300.250000
485021.250000
