0.500000
0.000000
0.000000
-0.500000
2905673.750000
484870.750000
