0.500000
0.000000
0.000000
-0.500000
2898325.250000
481765.750000
