0.500000
0.000000
0.000000
-0.500000
2892815.250000
486861.750000
