0.500000
0.000000
0.000000
-0.500000
2908072.250000
490323.250000
