0.500000
0.000000
0.000000
-0.500000
2913148.750000
493252.750000
