0.500000
0.000000
0.000000
-0.500000
2897232.250000
495029.750000
