0.500000
0.000000
0.000000
-0.500000
2900013.250000
492527.750000
