0.500000
0.000000
0.000000
-0.500000
2894770.250000
492259.750000
