0.500000
0.000000
0.000000
-0.500000
2891970.250000
499833.250000
