0.500000
0.000000
0.000000
-0.500000
2899628.250000
500205.750000
