0.500000
0.000000
0.000000
-0.500000
2910280.750000
498216.250000
