0.500000
0.000000
0.000000
-0.500000
2912744.250000
500849.250000
