0.500000
0.000000
0.000000
-0.500000
2857472.750000
440575.750000
