0.500000
0.000000
0.000000
-0.500000
2857580.750000
437932.250000
