0.500000
0.000000
0.000000
-0.500000
2860223.250000
438060.750000
