0.500000
0.000000
0.000000
-0.500000
2854714.250000
443105.250000
