0.500000
0.000000
0.000000
-0.500000
2859762.750000
448637.750000
