0.500000
0.000000
0.000000
-0.500000
2851833.250000
448258.250000
