0.500000
0.000000
0.000000
-0.500000
2843543.250000
455821.250000
