0.500000
0.000000
0.000000
-0.500000
2848822.750000
456072.750000
