0.500000
0.000000
0.000000
-0.500000
2851463.750000
456197.250000
