0.500000
0.000000
0.000000
-0.500000
2856889.250000
453795.750000
