0.500000
0.000000
0.000000
-0.500000
2853998.750000
458966.750000
