0.500000
0.000000
0.000000
-0.500000
2843308.250000
461116.250000
