0.500000
0.000000
0.000000
-0.500000
2830109.250000
463079.250000
