0.500000
0.000000
0.000000
-0.500000
2832618.250000
463212.750000
