0.500000
0.000000
0.000000
-0.500000
2832483.750000
465852.250000
