0.500000
0.000000
0.000000
-0.500000
2848361.250000
466654.250000
