0.500000
0.000000
0.000000
-0.500000
2853654.750000
466927.750000
