0.500000
0.000000
0.000000
-0.500000
2856412.250000
464378.750000
