0.500000
0.000000
0.000000
-0.500000
2859055.750000
464505.750000
